BEGIN:VCALENDAR
VERSION:2.0
PRODID:-//Doctorado en Ciencias Físicas - ECPv4.9.4//NONSGML v1.0//EN
CALSCALE:GREGORIAN
METHOD:PUBLISH
X-WR-CALNAME:Doctorado en Ciencias Físicas
X-ORIGINAL-URL:http://doctoradofisica.usm.cl
X-WR-CALDESC:Eventos para Doctorado en Ciencias Físicas
BEGIN:VTIMEZONE
TZID:"UTC"
BEGIN:STANDARD
TZOFFSETFROM:+0000
TZOFFSETTO:+0000
TZNAME:UTC
DTSTART:20210101T000000
END:STANDARD
END:VTIMEZONE
BEGIN:VEVENT
DTSTART;TZID="UTC":20210401T140000
DTEND;TZID="UTC":20210401T170000
DTSTAMP:20260419T210628
CREATED:20210309T154950Z
LAST-MODIFIED:20210309T154959Z
UID:2563-1617285600-1617296400@doctoradofisica.usm.cl
SUMMARY:Examen de Grado: René Zúñiga Aguilera
DESCRIPTION:Jueves 1 de Abril\, 14:00 hrs\nhttps://youtu.be/E5W1xWiwXRg \n
URL:http://doctoradofisica.usm.cl/evento/examen-de-grado-rene-zuniga-aguilera/
ATTACH;FMTTYPE=image/png:http://doctoradofisica.usm.cl/wp-content/uploads/2021/03/Afiche_RZ-1.png
END:VEVENT
END:VCALENDAR