BEGIN:VCALENDAR
VERSION:2.0
PRODID:-//Doctorado en Ciencias Físicas - ECPv4.9.4//NONSGML v1.0//EN
CALSCALE:GREGORIAN
METHOD:PUBLISH
X-WR-CALNAME:Doctorado en Ciencias Físicas
X-ORIGINAL-URL:http://doctoradofisica.usm.cl
X-WR-CALDESC:Eventos para Doctorado en Ciencias Físicas
BEGIN:VTIMEZONE
TZID:"UTC"
BEGIN:STANDARD
TZOFFSETFROM:+0000
TZOFFSETTO:+0000
TZNAME:UTC
DTSTART:20210101T000000
END:STANDARD
END:VTIMEZONE
BEGIN:VEVENT
DTSTART;TZID="UTC":20210405T120000
DTEND;TZID="UTC":20210405T140000
DTSTAMP:20260419T193655
CREATED:20210325T131328Z
LAST-MODIFIED:20210325T131716Z
UID:2571-1617624000-1617631200@doctoradofisica.usm.cl
SUMMARY:Examen de Avance de Tesis: F. Javier Moreno
DESCRIPTION:El departamento de física PUCV tiene el agrado de invitarles al Examen de Avance de tesis para la obtención del grado académico de Doctorado en Ciencias Físicas:\n \nTítulo: Holographic entanglement entropy and higher-curvature gravity\nTesista: F. Javier Moreno (PUCV)\nFecha: Lunes 5 de abril 2021\, a las 12:00 hrs\n \n\nPersonas Interesadas por favor regístrarse con Lorena Aguirre (dirfis@pucv.cl)\, para el envío del enlace plataforma Zoom. \n
URL:http://doctoradofisica.usm.cl/evento/avance-de-tesis-javier-moreno/
CATEGORIES:Doctorado,Examenes,Seminario
ATTACH;FMTTYPE=image/png:http://doctoradofisica.usm.cl/wp-content/uploads/2021/03/image.png
END:VEVENT
END:VCALENDAR