BEGIN:VCALENDAR
VERSION:2.0
PRODID:-//Doctorado en Ciencias Físicas - ECPv4.9.4//NONSGML v1.0//EN
CALSCALE:GREGORIAN
METHOD:PUBLISH
X-WR-CALNAME:Doctorado en Ciencias Físicas
X-ORIGINAL-URL:http://doctoradofisica.usm.cl
X-WR-CALDESC:Eventos para Doctorado en Ciencias Físicas
BEGIN:VTIMEZONE
TZID:"UTC"
BEGIN:STANDARD
TZOFFSETFROM:+0000
TZOFFSETTO:+0000
TZNAME:UTC
DTSTART:20220101T000000
END:STANDARD
END:VTIMEZONE
BEGIN:VEVENT
DTSTART;TZID="UTC":20220114T100000
DTEND;TZID="UTC":20220114T120000
DTSTAMP:20260420T071530
CREATED:20220112T202514Z
LAST-MODIFIED:20220112T202514Z
UID:2728-1642154400-1642161600@doctoradofisica.usm.cl
SUMMARY:Examen de Avance de Tesis: Jorge Flores F.
DESCRIPTION:Buenos días\,\n\n\n\nEstán cordialmente invitados a participar en el Examen de Avance de de Tesis\, para Doctorado en Ciencias Física\, Sr. Jorge Flores Farías.\nSe realizará el viernes 14 de enero 2022 a las 10:00 hrs. vía Zoom\n\n\n\n
URL:http://doctoradofisica.usm.cl/evento/examen-de-avance-de-tesis-jorge-flores-f/
CATEGORIES:Doctorado,Examenes,Seminario
ATTACH;FMTTYPE=image/png:http://doctoradofisica.usm.cl/wp-content/uploads/2022/01/image2.png
ORGANIZER;CN="UTFSM%20-%20PUCV":MAILTO:marcela.aguirre@usm.cl
END:VEVENT
END:VCALENDAR