BEGIN:VCALENDAR
VERSION:2.0
PRODID:-//Doctorado en Ciencias Físicas - ECPv4.9.4//NONSGML v1.0//EN
CALSCALE:GREGORIAN
METHOD:PUBLISH
X-WR-CALNAME:Doctorado en Ciencias Físicas
X-ORIGINAL-URL:http://doctoradofisica.usm.cl
X-WR-CALDESC:Eventos para Doctorado en Ciencias Físicas
BEGIN:VTIMEZONE
TZID:"UTC"
BEGIN:STANDARD
TZOFFSETFROM:+0000
TZOFFSETTO:+0000
TZNAME:UTC
DTSTART:20200101T000000
END:STANDARD
END:VTIMEZONE
BEGIN:VEVENT
DTSTART;TZID="UTC":20200910T160000
DTEND;TZID="UTC":20200910T170000
DTSTAMP:20260421T032004
CREATED:20200909T161340Z
LAST-MODIFIED:20200909T162057Z
UID:2350-1599753600-1599757200@doctoradofisica.usm.cl
SUMMARY:Coloquio ZBA: Dr. Cristóbal Corral Badiola
DESCRIPTION:Unimodular gravity: a fresh new look into the cosmological constant problem\nDr. Cristóbal Corral Badiola\nObservational data coming from type Ia supernovae and cosmic microwave background suggest that the Universe is passing through a phase of accelerated expansion. The simplest explanation is to add the cosmological constant to Einstein’s field equations\, even though its microscopic nature is not well understood from a quantum theory viewpoint. Due to this\, different proposals have been suggested to address the late-time dynamics of the Universe\, while dispensing on the cosmological constant. In this talk\, we will review an approach suggested by Einstein himself—dubbed unimodular gravity—\, based upon a restricted diffeomorphism invariance rather than extra fields. Their cosmological consequences regarding\nthe late-time acceleration of the Universe will be highlighted. \n  \nJueves 10 de septiembre – 16:00 hrs. \n  \nSeminario On-line vía plataforma Zoom. Datos para la conexión \nLink de acceso: AQUÍ\nID: 875 7973 0088\nCódigo acceso: 150106\n
URL:http://doctoradofisica.usm.cl/evento/coloquio-zba-dr-cristobal-corral-badiola/
CATEGORIES:Coloquio,Seminario
ORGANIZER;CN="UTFSM%20-%20PUCV":MAILTO:marcela.aguirre@usm.cl
END:VEVENT
END:VCALENDAR