BEGIN:VCALENDAR
VERSION:2.0
PRODID:-//Doctorado en Ciencias Físicas - ECPv4.9.4//NONSGML v1.0//EN
CALSCALE:GREGORIAN
METHOD:PUBLISH
X-WR-CALNAME:Doctorado en Ciencias Físicas
X-ORIGINAL-URL:http://doctoradofisica.usm.cl
X-WR-CALDESC:Eventos para Doctorado en Ciencias Físicas
BEGIN:VTIMEZONE
TZID:"UTC"
BEGIN:STANDARD
TZOFFSETFROM:+0000
TZOFFSETTO:+0000
TZNAME:UTC
DTSTART:20210101T000000
END:STANDARD
END:VTIMEZONE
BEGIN:VEVENT
DTSTART;TZID="UTC":20210311T140000
DTEND;TZID="UTC":20210311T160000
DTSTAMP:20260420T064027
CREATED:20210309T163922Z
LAST-MODIFIED:20210309T163922Z
UID:2566-1615471200-1615478400@doctoradofisica.usm.cl
SUMMARY:Examen de Avance de Tesis: Yolbeiker Rodríguez Baez
DESCRIPTION:Jueves\, 11 de Marzo de 2021\, 14:00 hrs.\nPresentación online vía Zoom\nDepartamento de Física \, Universidad Técnica Federico Santa María\n¡Están todos cordialmente invitados! \n
URL:http://doctoradofisica.usm.cl/evento/examen-de-avance-de-tesis-yolbeiker-rodriguez-baez/
ATTACH;FMTTYPE=image/png:http://doctoradofisica.usm.cl/wp-content/uploads/2021/03/Avance-de-tesis-Yolbeiker-1.png
END:VEVENT
END:VCALENDAR