BEGIN:VCALENDAR
VERSION:2.0
PRODID:-//Doctorado en Ciencias Físicas - ECPv4.9.4//NONSGML v1.0//EN
CALSCALE:GREGORIAN
METHOD:PUBLISH
X-WR-CALNAME:Doctorado en Ciencias Físicas
X-ORIGINAL-URL:http://doctoradofisica.usm.cl
X-WR-CALDESC:Eventos para Doctorado en Ciencias Físicas
BEGIN:VTIMEZONE
TZID:"UTC"
BEGIN:STANDARD
TZOFFSETFROM:+0000
TZOFFSETTO:+0000
TZNAME:UTC
DTSTART:20200101T000000
END:STANDARD
END:VTIMEZONE
BEGIN:VEVENT
DTSTART;TZID="UTC":20201013T150000
DTEND;TZID="UTC":20201013T170000
DTSTAMP:20260420T132617
CREATED:20200928T144550Z
LAST-MODIFIED:20201001T212153Z
UID:2448-1602601200-1602608400@doctoradofisica.usm.cl
SUMMARY:Panoramas 2020
DESCRIPTION:PANORAMAS nace en el 2013 como una iniciativa del programa de Doctorado en Ciencias Físicas\, ofrecido en conjunto por la UTFSM y la PUCV\, desde entonces se ha venido realizando en mayo de cada año. \nEste evento busca generar una instancia propicia para la difusión de los diversos temas de investigación\, conocer el estado actual de las investigaciones de los estudiantes y aumentar la interacción entre estudiantes y profesores del programa. \n\n\n\n\n\n\n\n\nDebido a la situación sanitaria a raíz de la pandemia COVID 19\, este evento será de forma online\, y se transmitirá mediante la plataforma Zoom los días \n\n\n\n\n\n\nMartes 13 al Viernes 16 de Octubre.\nLa dinámica del evento consistirá en bloques de dos horas con presentaciones de 20 minutos\, entre las 15:00 horas hasta las 17:00 horas. En días previos al evento\, se proveerán los detalles para la conexión. \n\n\n\n\n\n\n\n\n
URL:http://doctoradofisica.usm.cl/evento/panoramas-2020/2020-10-13/
CATEGORIES:Doctorado,Panoramas,Seminario
ORGANIZER;CN="UTFSM%20-%20PUCV":MAILTO:marcela.aguirre@usm.cl
END:VEVENT
END:VCALENDAR