BEGIN:VCALENDAR
VERSION:2.0
PRODID:-//Doctorado en Ciencias Físicas - ECPv4.9.4//NONSGML v1.0//EN
CALSCALE:GREGORIAN
METHOD:PUBLISH
X-WR-CALNAME:Doctorado en Ciencias Físicas
X-ORIGINAL-URL:http://doctoradofisica.usm.cl
X-WR-CALDESC:Eventos para Doctorado en Ciencias Físicas
BEGIN:VTIMEZONE
TZID:"UTC"
BEGIN:STANDARD
TZOFFSETFROM:+0000
TZOFFSETTO:+0000
TZNAME:UTC
DTSTART:20200101T000000
END:STANDARD
END:VTIMEZONE
BEGIN:VEVENT
DTSTART;TZID="UTC":20200826T163000
DTEND;TZID="UTC":20200826T173000
DTSTAMP:20260420T155322
CREATED:20200825T141832Z
LAST-MODIFIED:20200825T142912Z
UID:2329-1598459400-1598463000@doctoradofisica.usm.cl
SUMMARY:Seminario Materia Condensada: Pedro Landeros
DESCRIPTION:No-reciprocidad de ondas de espín en películas magnéticas\n  \nPedro Landeros\, Rodolfo Gallardo\n(1) Departamento de Física\, Universidad Técnica Federico Santa María\, Avenida España 1680\, Valparaíso\, Chile.\n(2) Center for the Development of Nanoscience and Nanotechnology (CEDENNA)\, 917-0124 Santiago\, Chile.\nLa no-reciprocidad de los fenómenos ondulatorios describe la situación en la cual la dispersión de la onda depende del signo del vector de onda\, es decir\, ondas que se propagan en direcciones opuestas exhiben diferentes longitudes de onda para la misma frecuencia. Dado que una simetría de inversión temporal rota crea una no-reciprocidad conectada con la propagación de la onda\, se impone a sí misma en el campo del procesamiento de señales. En este contexto\, el procesamiento de datos mediante el uso de ondas de espín se considera una ruta prometedora hacia la electrónica de baja potencia\, ya que su propagación no implica el transporte de cargas eléctricas. En consecuencia\, romper la invariancia temporal en la dispersión de las ondas de espín hasta un grado significativo es de gran relevancia. La no-reciprocidad de las ondas de espín puede ser inducida por (i) la interacción Dzyaloshinskii-Moriya interfacial\, presente en películas delgadas en contacto con una capa de metal pesado con fuerte acoplamiento espín-órbita\, o por (ii) las interacciones dipolares de una bicapa magnética acoplada separada por una capa no magnética. Para ambos sistemas\, se encuentra que la no-reciprocidad en la frecuencia escala linealmente con el grosor de la capa para números de onda pequeños. Sin embargo\, para el caso de la bicapa acoplada\, la no-reciprocidad en frecuencia muestra un valor máximo y luego disminuye para vectores de onda más grandes. También se encuentra que el corrimiento en frecuencia de dos ondas de espín propagándose en direcciones opuestas\, mejora notoriamente cuando se produce un estado de equilibrio antiparalelo. El estudio se realiza mediante cálculos analíticos que se complementan con simulaciones micromagnéticas\, y en algunos casos con experimentos. \n  \nTema: Reunión Zoom Seminario de Grupo\nHora: 16:30 hr \n  \nUnirse a la reunión Zoom \nID de reunión: 934 5197 8812 \nCódigo de acceso: 098839 \n
URL:http://doctoradofisica.usm.cl/evento/seminario-materia-condensada-3/
END:VEVENT
END:VCALENDAR