BEGIN:VCALENDAR
VERSION:2.0
PRODID:-//Doctorado en Ciencias Físicas - ECPv4.9.4//NONSGML v1.0//EN
CALSCALE:GREGORIAN
METHOD:PUBLISH
X-WR-CALNAME:Doctorado en Ciencias Físicas
X-ORIGINAL-URL:http://doctoradofisica.usm.cl
X-WR-CALDESC:Eventos para Doctorado en Ciencias Físicas
BEGIN:VTIMEZONE
TZID:"UTC"
BEGIN:STANDARD
TZOFFSETFROM:+0000
TZOFFSETTO:+0000
TZNAME:UTC
DTSTART:20180101T000000
END:STANDARD
END:VTIMEZONE
BEGIN:VEVENT
DTSTART;TZID="UTC":20181120T160000
DTEND;TZID="UTC":20181120T180000
DTSTAMP:20260422T003333
CREATED:20181112T150452Z
LAST-MODIFIED:20190418T123751Z
UID:1321-1542729600-1542736800@doctoradofisica.usm.cl
SUMMARY:Examen de Grado de Doctorado
DESCRIPTION:Dark Vector Dark Matter\nDoctorando Sr. Bastián Díaz Sáez\nResumen:\nWe explore an extension to the Standard Model which incorporates a vector field in the fundamental representation of SU(2)L as the only non-standard degree of freedom. This kind of field may appear in different scenarios such as Compositeness\, Gauge-Higgs unification and extradimensional scenarios. We study the model in which a Z2 symmetry is manifiest\, making the neutral CP-even component of the new vector field a vectorial dark matter candidate. We constraint the parameter space through LEP and LHC data\, as well as from current dark matter searches.  We find that the model is highly constrained but a small region of the parameter space can provide a viable DM candidate. Additionally we contrast our predictions on mono-Z\,\, mono-jet and mono-Higgs production with the ones obtained in the well-studied inert Two Higgs Doublet Model. Finally\, comments on the implications of perturbative unitarity are presented. \n  \nComisión:\nDr. Alfonso Zerwekh\, Profesor Guía\,\nUniversidad Técnica Federico Santa María \nDr. Claudio Dib\, Referente Interno\,\nUniversidad Técnica Federico Santa María \nDr. Diego Aristizabal\, Referente Interno\,\nUniversidad Técnica Federico Santa María \nDr. Marco Aurelio Díaz \, Referente Externo\nPontificia Universidad Católica de Chile \nSala de Conferencias Dr. Luciano Laroze\, E-300 \n
URL:http://doctoradofisica.usm.cl/evento/examen-de-grado-de-doctorado/
LOCATION:UTFSM\, Av. España 1680\, Valparaíso\, Chile
CATEGORIES:Doctorado,Examenes,Seminario
END:VEVENT
END:VCALENDAR