BEGIN:VCALENDAR
VERSION:2.0
PRODID:-//Doctorado en Ciencias Físicas - ECPv4.9.4//NONSGML v1.0//EN
CALSCALE:GREGORIAN
METHOD:PUBLISH
X-WR-CALNAME:Doctorado en Ciencias Físicas
X-ORIGINAL-URL:http://doctoradofisica.usm.cl
X-WR-CALDESC:Eventos para Doctorado en Ciencias Físicas
BEGIN:VTIMEZONE
TZID:"UTC"
BEGIN:STANDARD
TZOFFSETFROM:+0000
TZOFFSETTO:+0000
TZNAME:UTC
DTSTART:20180101T000000
END:STANDARD
END:VTIMEZONE
BEGIN:VEVENT
DTSTART;TZID="UTC":20181114T120000
DTEND;TZID="UTC":20181114T130000
DTSTAMP:20260422T003253
CREATED:20181112T145528Z
LAST-MODIFIED:20190418T123805Z
UID:1319-1542196800-1542200400@doctoradofisica.usm.cl
SUMMARY:Coloquio del Instituto de Física PUCV
DESCRIPTION:Very wide stellar binaries as probes of fundamental physics\nProf. Julio Chanamé  – P. Universidad Católica de Chile\nOur present standard model of gravity\, General Relativity (and Newtonian gravity\, in the appropriate limit)\, has been experimentally tested with success at various scales and regimes\, from our daily life to phenomena ranging from the Solar System to double massive black holes that merge and produce gravitational waves. Yet in the limit of very low accelerations\, tests have been harder to come up with. This is an unsatisfactory situation\, given that the rotation curves of disk galaxies fall precisely within that regime\, and application of the standard model leads inevitably to requiring the presence of dark matter. The orbital accelerations experienced by the components of very wide binaries (semimajor axes of a few thousand AUs) fall within this special regime of gravity. Not only that\, but they do not present the ambiguities associated to the potential presence of any dark matter\, thus offering us an important and rare opportunity to test gravity in the weak acceleration regime. I will discuss the present-day situation\, including our latest results based on state-of-the-art observations from Gaia and ground-based facilities. I will also present how wide binaries in our Galaxy and beyond can inform us about the fundamental properties of dark matter\, under the assumption that this elusive component of the universe actually exists. \nMiércoles 14 de noviembre de 2018\, 12:00 hrs\, Sala Sergio del Campo\nFacultad de Ciencias\, Campus Curauma\, PUCV \n
URL:http://doctoradofisica.usm.cl/evento/coloquio-del-instituto-de-fisica-pucv/
LOCATION:PUCV
CATEGORIES:Coloquio
END:VEVENT
END:VCALENDAR