BEGIN:VCALENDAR
VERSION:2.0
PRODID:-//Doctorado en Ciencias Físicas - ECPv4.9.4//NONSGML v1.0//EN
CALSCALE:GREGORIAN
METHOD:PUBLISH
X-WR-CALNAME:Doctorado en Ciencias Físicas
X-ORIGINAL-URL:http://doctoradofisica.usm.cl
X-WR-CALDESC:Eventos para Doctorado en Ciencias Físicas
BEGIN:VTIMEZONE
TZID:"America/Sao_Paulo"
BEGIN:STANDARD
TZOFFSETFROM:-0200
TZOFFSETTO:-0300
TZNAME:-03
DTSTART:20180218T020000
END:STANDARD
BEGIN:DAYLIGHT
TZOFFSETFROM:-0300
TZOFFSETTO:-0200
TZNAME:-02
DTSTART:20181104T030000
END:DAYLIGHT
END:VTIMEZONE
BEGIN:VEVENT
DTSTART;TZID="America/Sao_Paulo":20181019T160000
DTEND;TZID="America/Sao_Paulo":20181019T170000
DTSTAMP:20260422T021319
CREATED:20181010T013711Z
LAST-MODIFIED:20181010T195935Z
UID:1169-1539964800-1539968400@doctoradofisica.usm.cl
SUMMARY:Seminario Materia Condensada
DESCRIPTION:Studying the mechanical properties of Immunoglobulin Binding Protein (BiP) by Optical Tweezers and Nanorheology \nProf. Dr. Christian A.M. Wilson\, Facultad de Ciencias Químicas y Farmacéuticas\, Universidad de Chile \nViernes 19 de Octubre\, 16:00\, Sala Luciano Laroze E-300 \nThe effect of force on protein structure and associated changes of protein function is a subject of current intensive research. Optical tweezers are a useful research tool for applying forces to single proteins and measuring the affinity between substrates. The development of this technique by Arthur Ashkin was recently awarded the 2018 nobel prize in physics for its applications in biological systems. Some single molecule techniques that exert force on the protein are not able to measure small changes in distance at subnanometer resolution at low forces (below 1 to 5 pN)\, so it is difficult to correlate the elastic properties of the folded protein with ligand binding sometimes. Recently\, a new technique called nanorheology allows measurement of elasticity in folded proteins. Nanorheology is a technique that exploits sub-Angstrom resolution to study the mechanical properties of the folded state of proteins by applying low force with 20 nanometer gold nanoparticles to the proteins in bulk. This viscoelastic transition is a universal mechanical property of the folded state\, and it is relevant for the large conformational changes\, which often accompany substrate binding in proteins. In this presentation I will show our recent results about the mechanical properties of chaperone BiP.  FONDECYT-1181361\, PCIPII20150073. \n
URL:http://doctoradofisica.usm.cl/evento/seminario-materia-condensada/
LOCATION:UTFSM\, Av. España 1680\, Valparaíso\, Chile
CATEGORIES:Seminario
END:VEVENT
END:VCALENDAR