BEGIN:VCALENDAR
VERSION:2.0
PRODID:-//Doctorado en Ciencias Físicas - ECPv4.9.4//NONSGML v1.0//EN
CALSCALE:GREGORIAN
METHOD:PUBLISH
X-WR-CALNAME:Doctorado en Ciencias Físicas
X-ORIGINAL-URL:http://doctoradofisica.usm.cl
X-WR-CALDESC:Eventos para Doctorado en Ciencias Físicas
BEGIN:VTIMEZONE
TZID:"America/Sao_Paulo"
BEGIN:STANDARD
TZOFFSETFROM:-0200
TZOFFSETTO:-0300
TZNAME:-03
DTSTART:20180218T020000
END:STANDARD
BEGIN:DAYLIGHT
TZOFFSETFROM:-0300
TZOFFSETTO:-0200
TZNAME:-02
DTSTART:20181104T030000
END:DAYLIGHT
END:VTIMEZONE
BEGIN:VEVENT
DTSTART;TZID="America/Sao_Paulo":20181018T160000
DTEND;TZID="America/Sao_Paulo":20181018T170000
DTSTAMP:20260422T021250
CREATED:20181009T192324Z
LAST-MODIFIED:20181009T210450Z
UID:1139-1539878400-1539882000@doctoradofisica.usm.cl
SUMMARY:Ciclo de Coloquios Dra. Zdenka Barticevic
DESCRIPTION:David Bohm: el rebelde cuántico \nDr. Pablo Acuña \nProfesor Instituto de Filosofía de la Pontificia Universidad Católica de Valparaíso. \nLugar: Sala Luciano Laroze (E-300) – Departamento de Física\, USM. \nEn esta charla revisaremos la formulación matemática de la teoría de Bohm y la descripción del mundo físico que ésta propone. Consideraremos también el trasfondo histórico\, tanto científico como sociológico\, sobre el que Bohm introdujo su teoría\, así como las revisiones y críticas conceptuales a las que ha sido sometida desde su renacer en los años 90. \n  \n  \n
URL:http://doctoradofisica.usm.cl/evento/ciclo-de-coloquios-dra-zdenka-barticevic/
LOCATION:UTFSM\, Av. España 1680\, Valparaíso\, Chile
CATEGORIES:Coloquio
ATTACH;FMTTYPE=image/png:http://doctoradofisica.usm.cl/wp-content/uploads/2018/10/Imagen1.png
ORGANIZER;CN="UTFSM%20-%20PUCV":MAILTO:marcela.aguirre@usm.cl
END:VEVENT
END:VCALENDAR